﻿BEGIN:VCALENDAR
VERSION:2.0
PRODID:-//APS Santa Marcelina - ECPv5.7.1//NONSGML v1.0//EN
CALSCALE:GREGORIAN
METHOD:PUBLISH
X-WR-CALNAME:APS Santa Marcelina
X-ORIGINAL-URL:https://aps.santamarcelina.org
X-WR-CALDESC:Eventos para APS Santa Marcelina
BEGIN:VTIMEZONE
TZID:America/Sao_Paulo
BEGIN:STANDARD
TZOFFSETFROM:-0200
TZOFFSETTO:-0300
TZNAME:-03
DTSTART:20170219T020000
END:STANDARD
BEGIN:DAYLIGHT
TZOFFSETFROM:-0300
TZOFFSETTO:-0200
TZNAME:-02
DTSTART:20171015T030000
END:DAYLIGHT
END:VTIMEZONE
BEGIN:VEVENT
DTSTART;TZID=America/Sao_Paulo:20171111T080000
DTEND;TZID=America/Sao_Paulo:20171111T120000
DTSTAMP:20260423T030027
CREATED:20171020T092226Z
LAST-MODIFIED:20171020T092226Z
UID:5124-1510387200-1510401600@aps.santamarcelina.org
SUMMARY:Ação - Saúde do Homem
DESCRIPTION:
URL:https://aps.santamarcelina.org/evento/acao-saude-do-homem/
CATEGORIES:Unidade
END:VEVENT
BEGIN:VEVENT
DTSTART;TZID=America/Sao_Paulo:20171111T130000
DTEND;TZID=America/Sao_Paulo:20171111T140000
DTSTAMP:20260423T030027
CREATED:20171020T092048Z
LAST-MODIFIED:20171020T092048Z
UID:5121-1510405200-1510408800@aps.santamarcelina.org
SUMMARY:Relembrando a infância com os colaboradores - PA Atualpa
DESCRIPTION:
URL:https://aps.santamarcelina.org/evento/relembrando-a-infancia-com-os-colaboradores-pa-atualpa/
LOCATION:Pa Atualpa
CATEGORIES:Unidade
END:VEVENT
END:VCALENDAR