﻿BEGIN:VCALENDAR
VERSION:2.0
PRODID:-//APS Santa Marcelina - ECPv5.7.1//NONSGML v1.0//EN
CALSCALE:GREGORIAN
METHOD:PUBLISH
X-WR-CALNAME:APS Santa Marcelina
X-ORIGINAL-URL:https://aps.santamarcelina.org
X-WR-CALDESC:Eventos para APS Santa Marcelina
BEGIN:VTIMEZONE
TZID:America/Sao_Paulo
BEGIN:STANDARD
TZOFFSETFROM:-0200
TZOFFSETTO:-0300
TZNAME:-03
DTSTART:20170219T020000
END:STANDARD
BEGIN:DAYLIGHT
TZOFFSETFROM:-0300
TZOFFSETTO:-0200
TZNAME:-02
DTSTART:20171015T030000
END:DAYLIGHT
END:VTIMEZONE
BEGIN:VEVENT
DTSTART;VALUE=DATE:20171117
DTEND;VALUE=DATE:20171118
DTSTAMP:20260422T131318
CREATED:20171110T092539Z
LAST-MODIFIED:20171110T092539Z
UID:5928-1510876800-1510963199@aps.santamarcelina.org
SUMMARY:Formatura GAME - UBS Vila Ramos
DESCRIPTION:A equipe Vila Ramos\, realizará formatura dos bebês acompanhados pelo Grupo de Aleitamento Materno Exclusivo (GAME)\, dia 17/11/2017 – 14h – Local: CEU Azul da Cor de Mar.
URL:https://aps.santamarcelina.org/evento/formatura-game-ubs-vila-ramos/
END:VEVENT
BEGIN:VEVENT
DTSTART;TZID=America/Sao_Paulo:20171117T080000
DTEND;TZID=America/Sao_Paulo:20171117T170000
DTSTAMP:20260422T131318
CREATED:20171027T102612Z
LAST-MODIFIED:20171113T080417Z
UID:5421-1510905600-1510938000@aps.santamarcelina.org
SUMMARY:Ação Dia da Consciência Negra
DESCRIPTION:PS Julio Tupy
URL:https://aps.santamarcelina.org/evento/acao-dia-da-consciencia-negra/
LOCATION:PSM Júlio Tupy\, R. Serra da Queimada\, 800 – Parque Guaianases\, São Paulo\, SP\, 08431-640\, Brasil
CATEGORIES:Unidade
END:VEVENT
BEGIN:VEVENT
DTSTART;TZID=America/Sao_Paulo:20171117T133000
DTEND;TZID=America/Sao_Paulo:20171117T160000
DTSTAMP:20260422T131318
CREATED:20171110T090234Z
LAST-MODIFIED:20171110T090330Z
UID:5920-1510925400-1510934400@aps.santamarcelina.org
SUMMARY:1ª Apresentação Cultural APD Tito Lopes
DESCRIPTION:Com  intuito de fortalecer o cuidado do usuário com Deficiência Intelectual no território de São Miguel Paulista e apresentar as experiências exitosas e potencialidades deste público acompanhado pela APD Tito Lopes\, foi criada a 1ª Apresentação Cultural/ Show de Talentos que será realizada no dia 17/11 das 13:30 às 16:00 horas  no Auditório da Escola Dom Pedro I\, próximo a praça e ao prédio do  CER IV São Miguel.
URL:https://aps.santamarcelina.org/evento/1a-apresentacao-cultural-apd-tito-lopes/
LOCATION:CER IV São Miguel\, Rua Professor Antonio Gama de Cerqueira\, 347 – Vila Americana\, São Paulo\, SP\, 08010-130\, Brasil
END:VEVENT
END:VCALENDAR