﻿BEGIN:VCALENDAR
VERSION:2.0
PRODID:-//APS Santa Marcelina - ECPv5.7.1//NONSGML v1.0//EN
CALSCALE:GREGORIAN
METHOD:PUBLISH
X-WR-CALNAME:APS Santa Marcelina
X-ORIGINAL-URL:https://aps.santamarcelina.org
X-WR-CALDESC:Eventos para APS Santa Marcelina
BEGIN:VTIMEZONE
TZID:America/Sao_Paulo
BEGIN:STANDARD
TZOFFSETFROM:-0200
TZOFFSETTO:-0300
TZNAME:-03
DTSTART:20170219T020000
END:STANDARD
BEGIN:DAYLIGHT
TZOFFSETFROM:-0300
TZOFFSETTO:-0200
TZNAME:-02
DTSTART:20171015T030000
END:DAYLIGHT
END:VTIMEZONE
BEGIN:VEVENT
DTSTART;TZID=America/Sao_Paulo:20171102T080000
DTEND;TZID=America/Sao_Paulo:20171102T170000
DTSTAMP:20260422T131411
CREATED:20171027T102306Z
LAST-MODIFIED:20171027T102306Z
UID:5409-1509609600-1509642000@aps.santamarcelina.org
SUMMARY:Dia do Nascimento do Beato Luigi Biraghi
DESCRIPTION:
URL:https://aps.santamarcelina.org/evento/dia-do-nascimento-do-beato-luigi-biraghi/
CATEGORIES:Institucional
END:VEVENT
END:VCALENDAR